BEGIN:VCALENDAR
VERSION:2.0
CALSCALE:GREGORIAN
PRODID:-//MyApp//Calendar 1.0//EN
BEGIN:VEVENT
METHOD:PUBLISH
UID:61509@regionalniportaly.cz
DTSTAMP:20260421T180427Z
DTSTART;VALUE=DATE:20251230
DTEND;VALUE=DATE:20251231
SUMMARY:Vánoční Zvonky pro radost - ZUŠ Hrotovice
DESCRIPTION:Srdečně vás zveme na DRUHÝ vánoční koncert souboru Zvonky pro radost.V úterý 30. prosince 2025 od 19:00 rozezní kostel sv. Markéty v Jaroměřicích nad Rokytnou slavnostní tóny v podání souboru ze Základní umělecké školy Hrotovice\, pod vedením Ivany Šumpelové.Soubor „Zvonky pro radost“\, který budete moci vidět i na 1. adventním koncertu České televize\, nabídne program plný vánoční hudby v kouzelné atmosféře barokního kostela.Tento koncert je výjimečnou příležitostí prožít závěr roku slavnostně&nbsp\;s hudbou\, která pohladí na duši.Výtěžek z koncertu bude věnován na dokončení opravy varhan.
LOCATION:Jaroměřice nad Rokytnou
END:VEVENT
END:VCALENDAR