BEGIN:VCALENDAR
VERSION:2.0
CALSCALE:GREGORIAN
PRODID:-//MyApp//Calendar 1.0//EN
BEGIN:VEVENT
METHOD:PUBLISH
UID:61757@regionalniportaly.cz
DTSTAMP:20260421T134644Z
DTSTART;VALUE=DATE:20260226
DTEND;VALUE=DATE:20260227
SUMMARY:Beseda s Josefem Klímou
DESCRIPTION:České podsvětí –&nbsp\;Autor populárního pořadu „Jak jsem přežil devadesátky“\, zakladatel investigativní žurnalistiky u nás Josef Klíma vypráví o divokých „devadesátkách“\, o tom\, jak se setkával s tehdejšími mocnými mafiány\, od Jonáka až po Krejčíře\, jak nebezpečné tehdy bylo být novinářem\, ale i tom\, jak se zločin mezitím proměnil.&nbsp\;Pořad je založen na otázkách od diváků. Připravte si otázky a ptejte se samotného Josefa Klímy!Zakoupené vstupenky jsou nevratné .
LOCATION:Jaroměřice nad Rokytnou
END:VEVENT
END:VCALENDAR