BEGIN:VCALENDAR
VERSION:2.0
CALSCALE:GREGORIAN
PRODID:-//MyApp//Calendar 1.0//EN
BEGIN:VEVENT
METHOD:PUBLISH
UID:61900@regionalniportaly.cz
DTSTAMP:20260421T175758Z
DTSTART;VALUE=DATE:20260127
DTEND;VALUE=DATE:20260128
SUMMARY:HOP TROP - náhradní termín
DESCRIPTION:Náhradní termín za koncert\, který se měl odehrát 10. 12. 2025.\n \nZakoupené vstupenky jsou v platnosti. Pokud vám náhradní termín nevyhovuje\, je možné jednotlivé vstupenky vrátit do 9. ledna 2026 u pokladny Národního domu v Třebíči. \n Skupina HOP TROP je stálicí na scéně trampské hudby už plných 40 let\, a od svého vzniku hraje stále v původním složení. HOP TROP byl hodnocen na festivalech Porta nejvyššími cenami za interpretaci i autorství a v roce 1988 se stal držitelem Zlaté Porty. Za album\, vydané GZ Loděnice v roce 1990 s názvem „Hop Trop II“\, byly hudebníkům předány „ZLATÉ DESKY“\, a později „PLATINOVÉ DESKY“. Skupina HOP TROP mnohokrát vystupovala v televizních pořadech a její autorské písničky jsou denně vysílány soukromými i státními rozhlasovými stanicemi. Přijali je za své trampové\, vodáci\, a romantici se vztahem k cestování a přírodě. Některé zlidověly a jsou vyučovány v základních školách. Na svých cestách do USA a Austrálie HOP TROP vystoupeními potěšil i české a slovenské krajany.\nV novém představení sestaveném převážně z tvorby Ladislava Kučery\, jeho syna Roberta\, Jaroslava Lenka a Jaromíra Vondry zazní například písničky Silver Hill\, Valouny a Obchodník s deštěm. Nebudou chybět ani známé hity jako je Amazonka\, Tři kříže\, Jonatán\, a také vodácké písničky\, které vznikly spoluprací souboru se známým spisovatelem Zdeňkem Šmídem. Pořad je proložen vlastním osobitým vyprávěním příhod ze života protagonistů i jejich populárních kolegů - známých muzikantů. HOP TROP kromě živé hudby a svých nahrávek nabízí jako novinku posluchačům na svých koncertech knížku se všemi písničkami a mnoha fotografiemi.
LOCATION:Třebíč
END:VEVENT
END:VCALENDAR