BEGIN:VCALENDAR
VERSION:2.0
CALSCALE:GREGORIAN
PRODID:-//MyApp//Calendar 1.0//EN
BEGIN:VEVENT
METHOD:PUBLISH
UID:61998@regionalniportaly.cz
DTSTAMP:20260421T151251Z
DTSTART;VALUE=DATE:20260314
DTEND;VALUE=DATE:20260315
SUMMARY:Drobné dekorativní předměty z proutí
DESCRIPTION:Řemeslný workshop na Šmeralově statku s Josefem Pěnčou\, Mistrem tradiční rukodělné výroby Kraje Vysočina z Rudíkova. Vyrábět se bude drobné košíkářské zboží jako věnec\, kužel do zahrady\, koule apod.Délka workshopu cca 4 hodiny.
LOCATION:Třebíč
END:VEVENT
END:VCALENDAR