BEGIN:VCALENDAR
VERSION:2.0
CALSCALE:GREGORIAN
PRODID:-//MyApp//Calendar 1.0//EN
BEGIN:VEVENT
METHOD:PUBLISH
UID:62988@regionalniportaly.cz
DTSTAMP:20260421T151406Z
DTSTART;VALUE=DATE:20260221
DTEND;VALUE=DATE:20260222
SUMMARY:Nejlepší věk na pohřeb
DESCRIPTION:Babička pozve na návštěvu syna s rodinou a chystá si pro ně důležité oznámení. Než k němu ale dojde\, stane se neštěstí. Rodinka\, která už počítala s tím\, že na ně babička přepíše dům\, musí najednou rychle jednat\, aby o něj nepřišla. Smrt přece nemůže být překážkou v právních úkonech. Stačí to jen dobře vymyslet\, aby to bylo směroplatné. Jenomže i ty nejlepší plány občas tvrdě narazí na zeď reality.\nČerná komedie o lidech\, kteří chodí přes mrtvoly. A opravdu takoví lidé existují\, co pro peníze udělají cokoliv. Klidně i sem tam nějakou mrtvolu překročí. Doslova.
LOCATION:Třebíč
END:VEVENT
END:VCALENDAR