BEGIN:VCALENDAR
VERSION:2.0
CALSCALE:GREGORIAN
PRODID:-//MyApp//Calendar 1.0//EN
BEGIN:VEVENT
METHOD:PUBLISH
UID:62993@regionalniportaly.cz
DTSTAMP:20260421T134845Z
DTSTART;VALUE=DATE:20260224
DTEND;VALUE=DATE:20260225
SUMMARY:Krásná vzpomínka
DESCRIPTION:DIVADLO UNGELT PRAHAStephen Temperley: KRÁSNÁ VZPOMÍNKA\nHrají: Bára Štěpánová\, Ondřej Brousek. Režie: Martin Čičvák\nBizarní příběh nejhorší operní pěvkyně všech dob Florence Foster Jenkinsové plný živě hrané jazzové i operní hudby. Jaké to je být pianistou nejhorší zpěvačky všech dob...?                               
LOCATION:Třebíč
END:VEVENT
END:VCALENDAR