BEGIN:VCALENDAR
VERSION:2.0
CALSCALE:GREGORIAN
PRODID:-//MyApp//Calendar 1.0//EN
BEGIN:VEVENT
METHOD:PUBLISH
UID:65830@regionalniportaly.cz
DTSTAMP:20260423T164324Z
DTSTART;VALUE=DATE:20260514
DTEND;VALUE=DATE:20260515
SUMMARY:Matej Veselka\, Linda Coganová
DESCRIPTION:FANTAZIE A VÁŠNĚMATEJ VESELKA – klarinet\, LINDA COGANOVÁ – klavír\nV koncertním programu zazní skladby od autorů: Wolfgang Amadeus Mozart\, Robert Schumann\, Charles-Maria Widor\, Leoš Janáček a Francis Poulenc.\n \n \nLinda Coganová je klavíristka\, pedagožka a propagátorka české hudby 20. století. Studovala na Konzervatoři v Plzni a JAMU\, kde nyní pokračuje v doktorském studiu. Vyučuje na JAMU i konzervatoři a aktivně koncertuje. Je držitelkou stipendia ČHF a zaměřuje se na soudobou klavírní tvorbu.\n \nMatej Veselka pochází ze středního Slovenska. Hře na klarinet se začal věnovat v devíti letech na ZUŠ Valaská. Poté pokračoval studiem na konzervatoři v Bratislavě a v roce 2023 ukončil své studium jako magistr umění na Janáčkově akademii múzických umění v Brně. Během svých studií získal jako sólista různá ocenění. Účastnil se řady mistrovských kurzů u špičkových renomovaných světových klarinetistů jako jsou Harri Mäki (Finsko)\, Andrew Marriner (Anglie)\, Paolo Beltramini (Itálie) a další. Od roku 2022 je členem Filharmonie Bohuslava Martinů na pozici 1. klarinetisty a od roku 2025 je také členem klarinetové skupiny Národního divadla Brno.
LOCATION:Třebíč
END:VEVENT
END:VCALENDAR