BEGIN:VCALENDAR
VERSION:2.0
CALSCALE:GREGORIAN
PRODID:-//MyApp//Calendar 1.0//EN
BEGIN:VEVENT
METHOD:PUBLISH
UID:65832@regionalniportaly.cz
DTSTAMP:20260423T163341Z
DTSTART;VALUE=DATE:20260425
DTEND;VALUE=DATE:20260426
SUMMARY:Čarodějnická sobota
DESCRIPTION:ČARODĚJNICKÁ SOBOTA\n25. 4. 2026 od 14:00 do 17:00Interaktivní expozice Cesty časem v třebíčském předzámčí\n \nV expozici Cesty časem v třebíčském Předzámčí se v sobotu slétnou čarodějnice ke svému pravidelnému reji. Ježibaby\, černokněžníci\, čarodějové\, nadpřirozené bytosti i nebojácní smrtelníci se mohou projít strašidelným lesem\, seznámit se s různými kouzly či si oprášit letecký průkaz na svém nebo zapůjčeném koštěti.\nVstup přes TIC Bazilika.\nVstupné: 120 Kč\, snížené 80 Kč\n Kontakty:tel.: 568 610 022e-mail: cestycasem@mkstrebic.cz
LOCATION:Třebíč
END:VEVENT
END:VCALENDAR