BEGIN:VCALENDAR
VERSION:2.0
CALSCALE:GREGORIAN
PRODID:-//MyApp//Calendar 1.0//EN
BEGIN:VEVENT
METHOD:PUBLISH
UID:65833@regionalniportaly.cz
DTSTAMP:20260423T164028Z
DTSTART;VALUE=DATE:20260508
DTEND;VALUE=DATE:20260509
SUMMARY:Oslavy osvobození
DESCRIPTION:16:00 Hudební vystoupení swing &amp\; jazz kapely Bee Band16:25 Taneční obor ZUŠ Třebíč16.35 Ukázky činnosti příslušníků 22. vrtulníkového letectva Náměšť nad Oslavou16:50 Projev starosty města17:00 Seskok výsadkářů z letecké základny Náměšť nad Oslavou17:30 Taneční obor ZUŠ Třebíč17:40 Hudební vystoupení swing &amp\; jazz kapely Bee Band
LOCATION:Třebíč
END:VEVENT
END:VCALENDAR