BEGIN:VCALENDAR
VERSION:2.0
CALSCALE:GREGORIAN
PRODID:-//MyApp//Calendar 1.0//EN
BEGIN:VEVENT
METHOD:PUBLISH
UID:65857@regionalniportaly.cz
DTSTAMP:20260424T054014Z
DTSTART;VALUE=DATE:20260621
DTEND;VALUE=DATE:20260622
SUMMARY:Mozart a Josefína
DESCRIPTION:Komorní orchestr Filharmonie G. Mahlera Jihlava Jiří Jakeš - dirigent\, autor hudebních úprav Miroslava Časarová - soprán\, role Josefíny Duškové Vladimír Holeš - vypravěč\, autor textu Komorní orchestr Filharmonie G. Mahlera Jihlava\, Jiří Jakeš - dirigent\, Miroslava Časarová - soprán\, Vladimír Holeš - vypravěč. Oceňovaný a mimořádně pozitivně přijímaný koncert\, který dojímá krásnou hudbou a sílou příběhu. Vše se odehrává na pražské Bertramce na podzim 1787\, kde se setkávají Wolfgang Amadeus Mozart se slavnou zpěvačkou Josefínou Duškovou. Oba mladí\, oba úspěšní a nalézající silné emoční pouto v předvečer slavné premiéry opery Don Giovanni v Praze. Koncert propojuje text Vladimíra Holeše\, mistrovské úpravy Mozartovy hudby pro komorní orchestr Jiřího Jakeše a skvostný soprán Miroslavy Časarové\, která září v roli Josefíny Duškové.
LOCATION:Valeč
END:VEVENT
END:VCALENDAR