BEGIN:VCALENDAR
VERSION:2.0
CALSCALE:GREGORIAN
PRODID:-//MyApp//Calendar 1.0//EN
BEGIN:VEVENT
METHOD:PUBLISH
UID:65874@regionalniportaly.cz
DTSTAMP:20260424T131016Z
DTSTART;VALUE=DATE:20260502
DTEND;VALUE=DATE:20260503
SUMMARY:Farmářské trhy v Ivančicích
DESCRIPTION:Prodej regionálních produktů na Palackého náměstí\nSobota 2. 5. 2026\, 7.30-11.00 
LOCATION:Ivančice
END:VEVENT
END:VCALENDAR