BEGIN:VCALENDAR
VERSION:2.0
CALSCALE:GREGORIAN
PRODID:-//MyApp//Calendar 1.0//EN
BEGIN:VEVENT
METHOD:PUBLISH
UID:8655@regionalniportaly.cz
DTSTAMP:20260424T184642Z
DTSTART;VALUE=DATE:20170121
DTEND;VALUE=DATE:20170122
SUMMARY:Ples města Velké Bíteše
DESCRIPTION:Plesem Vás provede The PARTY BAND a cimbálová muzika  Broln\, moderuje Karel Hegner. \nHosté večera: Vendula Příhodová\, Heidi Janků a Pavel Helan.\nDoprovodný program: Pusinky (Mažoretky z Říčan u Brna) a Taneční škola Starlet (Brno).\nVstupné: předprodej 250 Kč\, na místě 300 Kč. Víno a drobné občerstvení v ceně vstupného.\nPředprodej vstupenek: Klub kultury Masarykovo náměstí 5\, Velká Bíteš.\n 
LOCATION:Velká Bíteš
END:VEVENT
END:VCALENDAR