BEGIN:VCALENDAR
VERSION:2.0
CALSCALE:GREGORIAN
PRODID:-//MyApp//Calendar 1.0//EN
BEGIN:VEVENT
METHOD:PUBLISH
UID:8662@regionalniportaly.cz
DTSTAMP:20260424T200814Z
DTSTART;VALUE=DATE:20170114
DTEND;VALUE=DATE:20170115
SUMMARY:Ples města
DESCRIPTION:
LOCATION:Velké Meziříčí
END:VEVENT
END:VCALENDAR