BEGIN:VCALENDAR
VERSION:2.0
CALSCALE:GREGORIAN
PRODID:-//MyApp//Calendar 1.0//EN
BEGIN:VEVENT
METHOD:PUBLISH
UID:8663@regionalniportaly.cz
DTSTAMP:20260424T200824Z
DTSTART;VALUE=DATE:20170120
DTEND;VALUE=DATE:20170121
SUMMARY:Ples ZŠ Komenského
DESCRIPTION:Ples ZŠ Komenského se koná v sokolovně 20. 1. od 20 hodin. K tanci a poslechu zahraje LAZARET.\nVstupné 100 Kč\, vstupenky v předprodeji od 16. 12. 2016 v Informačním centru na Masarykově náměstí 100\, Náměšť nad Oslavou.
LOCATION:Náměšť nad Oslavou
END:VEVENT
END:VCALENDAR