BEGIN:VCALENDAR
VERSION:2.0
CALSCALE:GREGORIAN
PRODID:-//MyApp//Calendar 1.0//EN
BEGIN:VEVENT
METHOD:PUBLISH
UID:8715@regionalniportaly.cz
DTSTAMP:20260424T184633Z
DTSTART;VALUE=DATE:20170128
DTEND;VALUE=DATE:20170129
SUMMARY:Ples dobrné vůle
DESCRIPTION:Asociace rodičů a přátel zdravotně postižených dětí v ČR\, z.s. klub Velké Meziříčí zve na ples Dobré vůle\, který se uskuteční 28. 1. od 20 hodin v KD Uhřínov.\nVstupné: 100 Kč
LOCATION:Uhřínov
END:VEVENT
END:VCALENDAR