BEGIN:VCALENDAR
VERSION:2.0
CALSCALE:GREGORIAN
PRODID:-//MyApp//Calendar 1.0//EN
BEGIN:VEVENT
METHOD:PUBLISH
UID:8769@regionalniportaly.cz
DTSTAMP:20260424T212137Z
DTSTART;VALUE=DATE:20170114
DTEND;VALUE=DATE:20170115
SUMMARY:Společenský ples
DESCRIPTION:
LOCATION:Říčany
END:VEVENT
END:VCALENDAR